BEGIN:VCALENDAR
VERSION:2.0
PRODID:-//Carlos Camacho - ECPv6.9.0//NONSGML v1.0//EN
CALSCALE:GREGORIAN
METHOD:PUBLISH
X-WR-CALNAME:Carlos Camacho
X-ORIGINAL-URL:https://www.carloscamachomusic.com
X-WR-CALDESC:Events for Carlos Camacho
REFRESH-INTERVAL;VALUE=DURATION:PT1H
X-Robots-Tag:noindex
X-PUBLISHED-TTL:PT1H
BEGIN:VTIMEZONE
TZID:UTC
BEGIN:STANDARD
TZOFFSETFROM:+0000
TZOFFSETTO:+0000
TZNAME:UTC
DTSTART:20160101T000000
END:STANDARD
END:VTIMEZONE
BEGIN:VEVENT
DTSTART;TZID=UTC:20190905T200000
DTEND;TZID=UTC:20190905T220000
DTSTAMP:20260423T164958
CREATED:20190731T203138Z
LAST-MODIFIED:20190731T205111Z
UID:4777-1567713600-1567720800@www.carloscamachomusic.com
SUMMARY:Estreno mundial del Concierto para Percusión de Federico García-De Castro
DESCRIPTION:Carlos Camacho regresa al teatro Balboa como solista invitado junto a la OSN para el estreno mundial del Concierto para Percusión y Orquesta de Federico García-De Castro. Además del concierto\, el programa incluirá la “Passacaglia sobre un Tema de Bach” del la autoría de García-De Castro\, y la monumental obra “el Pájaro de Fuego” de Igor Stravinsky. \nEl concierto será dirigido por el mismo compositor\, Federico García-De Castro\, quien es el director de Alia Musica Pittsburgh y del Pittsburgh Festival of New Music en los Estados Unidos.\nEl concierto será en el Teatro Balboa\, a las 8:00 pm con entrada gratuita.
URL:https://www.carloscamachomusic.com/event/estreno-mundial-del-concierto-para-percusion-de-federico-garcia-de-castro/
LOCATION:Teatro Balboa\, Panama
ATTACH;FMTTYPE=image/jpeg:https://www.carloscamachomusic.com/wp-content/uploads/Afiche-_Mesa-de-trabajo-1-copia-2.jpg
END:VEVENT
BEGIN:VEVENT
DTSTART;TZID=UTC:20190818T160000
DTEND;TZID=UTC:20190818T170000
DTSTAMP:20260423T164958
CREATED:20190731T204009Z
LAST-MODIFIED:20190731T210003Z
UID:4782-1566144000-1566147600@www.carloscamachomusic.com
SUMMARY:Consort-Musik y Carlos Camacho
DESCRIPTION:Carlos Camacho regresa como invitado a Consort-Musik\, con un repertorio variado y emocionante. Se estarán realizando dos estrenos en Latino América: “In Restrospec”\, de Marissa DiPronio y “Heavy”\, del compositor Evan Williams.\nTe esperamos en este gran concierto el domingo 18 de agosto a las 4:00 pm en el Auditorio de la Universidad Marítima Internacional de Panamá.\n⁠\nPara más información:⁠\n+507 6495-6595⁠\ninfo@consort-musik.com⁠\nwww.consort-musik.com⁠
URL:https://www.carloscamachomusic.com/event/carlos-camacho-con-consort-musik/
LOCATION:Universidad Marítima Internacional de Panamá\, Panama\, Panama
ATTACH;FMTTYPE=image/jpeg:https://www.carloscamachomusic.com/wp-content/uploads/67418128_1310517559118046_481730781824155648_n.jpg
ORGANIZER;CN="Consort-Musik":MAILTO:info@consort-musik.com⁠
END:VEVENT
BEGIN:VEVENT
DTSTART;TZID=UTC:20190813T080000
DTEND;TZID=UTC:20190813T170000
DTSTAMP:20260423T164958
CREATED:20190731T204741Z
LAST-MODIFIED:20190731T205300Z
UID:4786-1565683200-1565715600@www.carloscamachomusic.com
SUMMARY:Estreno Mundial de "Pulsos" obra ganadora del premio Roque Cordero
DESCRIPTION:Tras ganar el primer lugar en el concurso nacional de Composición Roque Cordero\, la obra “Pulsos”\, para clarinete en Bb\, del compositor Carlos Camacho\, recibirá su estreno mundial. El estreno estará a cargo del clarinetista Alexis Fong\, bajo marco de la muestra Internacional de Clarinetes de Panamá (MICLAP). Fong\, es profesor de clarinete de la Facultad de Bellas Artes de la Universidad de Panamá y director artistico de MICLAP festival.
URL:https://www.carloscamachomusic.com/event/estreno-mundial-de-pulsos-obra-ganadora-del-premio-roque-cordero/
LOCATION:Hotel Hilton\, Lobby 2
ATTACH;FMTTYPE=image/jpeg:https://www.carloscamachomusic.com/wp-content/uploads/67387894_2477497545813332_117812232829534208_n.jpg
END:VEVENT
BEGIN:VEVENT
DTSTART;TZID=UTC:20180311T080000
DTEND;TZID=UTC:20180311T223000
DTSTAMP:20260423T164958
CREATED:20180305T172353Z
LAST-MODIFIED:20180305T173021Z
UID:4737-1520755200-1520807400@www.carloscamachomusic.com
SUMMARY:Classical Revolution Cincinnati
DESCRIPTION:Spring is a time for all that is fresh\, gentle and green…things the March edition of Classical Revolution Cincinnati promises to deliver! Join us as we welcome percussionist Carlos Camacho for his first-ever performance at Rev (where he will be joined by flutist Nave Graham AND give the world premiere of a new work by local composer Daniel Harrison). We also herald the return of the Irish band Sligo Road\, who will bring in the green for the upcoming St. Patrick’s Day holiday. Finally\, solo guitar sets from Christopher Wilke and Hunter Wingate will provide a smooth finish and a promise of gentle warmth as we prepare to welcome the beauty of a new season! \nAs always\, Classical Revolution Cincinnati is FREE and open to the public (although donations are strongly encouraged).
URL:https://www.carloscamachomusic.com/event/classical-revolution-cincinnati-2/
LOCATION:The Northside Tavern\, 4163 Hamilton Ave\, \, Cincinnati\, OH\, 45223\, United States
ATTACH;FMTTYPE=image/jpeg:https://www.carloscamachomusic.com/wp-content/uploads/Carlos-Dream.jpg
ORGANIZER;CN="Classical Revolution":MAILTO:carlosacg6@gmail.com
END:VEVENT
BEGIN:VEVENT
DTSTART;TZID=UTC:20160608T200000
DTEND;TZID=UTC:20160608T210000
DTSTAMP:20260423T164958
CREATED:20160511T144034Z
LAST-MODIFIED:20160511T144034Z
UID:4660-1465416000-1465419600@www.carloscamachomusic.com
SUMMARY:3(r) Three by Radio Panama Tour
DESCRIPTION:3(r) Three by Radio will perform at the Alfredo de Saint Malo International Music Festival in Panama City\, Panama. The group will also be in residence at the Escuela Juvenil de Musica as part of the Percussive Arts Society Panama Chapter Percussion Seminar. The concert will feature guest artists Dr. Brian Graiser\, Oscar Cruz\, Rey Cruz\, and Omar Diaz. The program will include works by John Cage\, Mark Applebaum\, Andres Carrizo\, Carlos Camacho\, and a world premier by Christian Restrepo.
URL:https://www.carloscamachomusic.com/event/3r-three-radio-panama-tour/
LOCATION:Anita Villalaz Theater\, Casco Antiguo Panama\, Panama\, Panama\, Panama
ATTACH;FMTTYPE=image/jpeg:https://www.carloscamachomusic.com/wp-content/uploads/3.r-1.jpg
ORGANIZER;CN="Festival Alfredo de Saint Malo":MAILTO:info@funsincopa.org
END:VEVENT
BEGIN:VEVENT
DTSTART;TZID=UTC:20160528T173000
DTEND;TZID=UTC:20160528T183000
DTSTAMP:20260423T164958
CREATED:20160511T150355Z
LAST-MODIFIED:20160511T150355Z
UID:4664-1464456600-1464460200@www.carloscamachomusic.com
SUMMARY:The Pittsburgh Soundpike Segment II
DESCRIPTION:Carlos Camacho will perform Frederic Rzewski’s epic piece “the Fall of the Empire” at Pittsburgh Festival of New Music on the concert “The Pittsburgh Soundpike Segment II”. The concert will include performances by the soprano Tony Arnold and the guitarist Dieter Hennings. \n\nThe Pittsburgh Soundpike is a pay-as-you-exit day-long event that encourages discovery: the longer you stay the more groups you’ll see\, and the less you’ll pay!\nAfter segment I join us for dinner at Conflict Kitchen and enjoy a $10 discount! \n\nProgram: \n\nTony Arnold (soprano): “Sequenza” by Luciano Berio \n\nDieter Hennings (guitar): “Tellur” by Tristan Murail \n\nCarlos Camacho (percussion): “The Fall of the Empire” by Frederic Rzewski
URL:https://www.carloscamachomusic.com/event/fall-empire-pittsburgh-festival-new-music/
ATTACH;FMTTYPE=image/jpeg:https://www.carloscamachomusic.com/wp-content/uploads/fest-nm.jpg
END:VEVENT
BEGIN:VEVENT
DTSTART;TZID=UTC:20160526T193000
DTEND;TZID=UTC:20160526T220000
DTSTAMP:20260423T164958
CREATED:20160511T151010Z
LAST-MODIFIED:20160511T151010Z
UID:4671-1464291000-1464300000@www.carloscamachomusic.com
SUMMARY:Tony Arnold and Alia Music Pittsburgh
DESCRIPTION:World and East-Coast premieres by\nTony Arnold\, Anna Elder\, and ALIA MUSICA \nKen Ueno’s new commission\, and Tony Arnold featuring in East-Coast premieres by Augusta Read Thomas\, Federico Garcia-De Castro\, and Curtis Rumrill (with Anna Elder). Plus the performance of Brian Riordan’s K. \nBrian Riordan: K. (bass clarinet\, prepared piano\, violin\, cello) \nAugusta Read Thomas: Of being is of bird (Emily Dickinson settings; soprano and chamber ensemble) \nKen Ueno: new commission (flute\, oboe\, clarinet\, 2 percussionists\, 2 cellos) \nCurtis Rumrill: Rover (two sopranos\, flute\, saxophone \, piano\, 2 percussionists\, violin) \nFederico Garcia-De Castro: Memoria (homage to Bernardo Jaramillo Ossa; soprano\, violin\, cello\, guitar\, percussion)
URL:https://www.carloscamachomusic.com/event/tony-arnold-alia-music-pittsburgh/
LOCATION:Stephen Foster Memorial Hall\, 4301 Forbes Ave.\, Pittsburgh\, PA\, 15213\, United States
ATTACH;FMTTYPE=image/jpeg:https://www.carloscamachomusic.com/wp-content/uploads/fest-nm.jpg
END:VEVENT
BEGIN:VEVENT
DTSTART;TZID=UTC:20160518T190000
DTEND;TZID=UTC:20160518T220000
DTSTAMP:20260423T164958
CREATED:20160511T142915Z
LAST-MODIFIED:20160511T142915Z
UID:4655-1463598000-1463608800@www.carloscamachomusic.com
SUMMARY:3(r) Three by Radio at Terrace Ave.
DESCRIPTION:Come preview some of the literature we will be performing at the Alfredo de Saint Malo Festival and PAS-Panama Chapter Percussion Seminar in Panama this June! Program to include works by Mark Applebaum\, John Cage\, Andres Carrizo\, and a world premier by Christian Restrepo. \nAlso featuring performances by Dr. Brian Graiser and Zach Webb. \nEveryone is welcome to BYOB and encouraged to stay and hang out after the performances!
URL:https://www.carloscamachomusic.com/event/3r-three-radio-terrace-ave/
LOCATION:The Terrace House\, 598 Terrace Ave.\, Cincinnati\, 45220\, United States
ATTACH;FMTTYPE=image/jpeg:https://www.carloscamachomusic.com/wp-content/uploads/13124960_582824531883610_2588764222887458763_n.jpg
END:VEVENT
END:VCALENDAR